BEGIN:VCALENDAR
VERSION:2.0
PRODID:-//wp-events-plugin.com//7.0.5//EN
TZID:Europe/Paris
X-WR-TIMEZONE:Europe/Paris
BEGIN:VEVENT
UID:2@congres-regional-agea.com
DTSTART;TZID=Europe/Paris;VALUE=DATE:20250910
DTEND;TZID=Europe/Paris;VALUE=DATE:20250912
DTSTAMP:20250709T113521Z
URL:https://www.congres-regional-agea.com/events/soiree-assemblee-generale
 -agea-10-11-sept-2025/
SUMMARY:Soirée & Assemblée Générale AGEA – 10-11 sept. 2025
DESCRIPTION:[et_pb_section fb_built="1" theme_builder_area="post_content" _
 builder_version="4.27.4" _module_preset="default"][/et_pb_section]
END:VEVENT
BEGIN:VTIMEZONE
TZID:Europe/Paris
X-LIC-LOCATION:Europe/Paris
BEGIN:DAYLIGHT
DTSTART:20250330T030000
TZOFFSETFROM:+0100
TZOFFSETTO:+0200
TZNAME:CEST
END:DAYLIGHT
END:VTIMEZONE
END:VCALENDAR